BEGIN:VCALENDAR
VERSION:2.0
PRODID:-//Squarespace Inc/Squarespace 6//v6//EN
BEGIN:VEVENT
UID:595891554f14bc66ff1b6be2@squarespace.com
DTSTAMP:20170712T225131Z
DTSTART:20160723T100000Z
DTEND:20160724T060000Z
SUMMARY:Play Margate
GEO:51.391605;1.386391
LOCATION:Margate Winter Gardens\, Fort Crescent\, Margate\, CT9 1HX\, Unite
 d Kingdom
END:VEVENT
END:VCALENDAR
