BEGIN:VCALENDAR
VERSION:2.0
PRODID:-//Squarespace Inc/Squarespace 6//v6//EN
BEGIN:VEVENT
UID:59588d1c17bffc97b3b1adec@squarespace.com
DTSTAMP:20170712T224849Z
DTSTART:20171018T210000Z
DTEND:20171021T183000Z
SUMMARY:AmiWest
GEO:38.624535;-121.413618
LOCATION:Hotel Inn Express\, 2224 Auburn Boulevard\, Sacramento\, CA\, 9582
 1\, United States
END:VEVENT
END:VCALENDAR
