BEGIN:VCALENDAR
VERSION:2.0
PRODID:-//Squarespace Inc/Squarespace 6//v6//EN
BEGIN:VEVENT
UID:595893ebccf210cc77cb3349@squarespace.com
DTSTAMP:20170712T224912Z
DTSTART:20171027T203000Z
DTEND:20171028T053000Z
SUMMARY:Amiga32
GEO:51.204197;6.687951
LOCATION:Das Rheinische Landestheater\, Neuss\, Germany
END:VEVENT
END:VCALENDAR
