BEGIN:VCALENDAR
VERSION:2.0
PRODID:-//Squarespace Inc/Squarespace 6//v6//EN
BEGIN:VEVENT
UID:59c6d703d7bdce9acafa3d19@squarespace.com
DTSTAMP:20170923T215347Z
DTSTART:20171027T210000Z
DTEND:20171028T050000Z
SUMMARY:Spectrum 35
GEO:52.207901;0.149001
LOCATION:The Centre for Computing History
END:VEVENT
END:VCALENDAR
