BEGIN:VCALENDAR
VERSION:2.0
PRODID:-//Squarespace Inc/Squarespace 6//v6//EN
BEGIN:VEVENT
UID:59588bc7a5790ac5e33c9056@squarespace.com
DTSTAMP:20170712T225056Z
DTSTART:20170520T000000Z
DTEND:20170521T060000Z
SUMMARY:Retro Revival
GEO:52.565519;-1.991164
LOCATION:Bank’s Stadium\, Walsall WS1 4SA\, United Kingodom
END:VEVENT
END:VCALENDAR
