BEGIN:VCALENDAR
VERSION:2.0
PRODID:-//Squarespace Inc/Squarespace 6//v6//EN
BEGIN:VEVENT
UID:59588dfcb8a79b342e31f245@squarespace.com
DTSTAMP:20170712T225029Z
DTSTART:20170610T100000Z
DTEND:20170611T050000Z
SUMMARY:Pacific Commodore Expo NW
GEO:47.582338;-122.334702
LOCATION:The Living Computers\, 2245 1st Avenue South\, Seattle\, WA\, 9813
 4\, United States
END:VEVENT
END:VCALENDAR
