BEGIN:VCALENDAR
VERSION:2.0
PRODID:-//Squarespace Inc/Squarespace 6//v6//EN
BEGIN:VEVENT
UID:5958901c59cc68d09780a94a@squarespace.com
DTSTAMP:20170712T225008Z
DTSTART:20170616T220000Z
DTEND:20170617T180000Z
SUMMARY:Play Glasgow
GEO:55.876373;-4.364665
LOCATION:Braehead Arena\, Kings Inch Road\, Glasgow\, G51 4BN\, United King
 dom
END:VEVENT
END:VCALENDAR
