BEGIN:VCALENDAR
VERSION:2.0
PRODID:-//Squarespace Inc/Squarespace 6//v6//EN
BEGIN:VEVENT
UID:59588c5e4402439a880ca458@squarespace.com
DTSTAMP:20170702T060424Z
DTSTART:20170630T220000Z
DTEND:20170701T170000Z
SUMMARY:North East Retro Gaming (NERG)
GEO:54.960649;-1.581875
LOCATION:Gateshead International Stadium\, Neilson Road\, Gateshead  NE10 0
 EF\, United Kingdom
END:VEVENT
END:VCALENDAR
