BEGIN:VCALENDAR
VERSION:2.0
PRODID:-//Squarespace Inc/Squarespace 6//v6//EN
BEGIN:VEVENT
UID:59588f836b4998081b6f5ee5@squarespace.com
DTSTAMP:20170712T224648Z
DTSTART:20170714T220000Z
DTEND:20170716T060000Z
SUMMARY:Play Blackpool
GEO:53.846435;-3.053442
LOCATION:Norbreck Castle Hotel\, Queen's Promenade\, Blackpool FY2 9AA\, Un
 ited Kingdom
END:VEVENT
END:VCALENDAR
