BEGIN:VCALENDAR
VERSION:2.0
PRODID:-//Squarespace Inc/Squarespace 6//v6//EN
BEGIN:VEVENT
UID:59588b2336e5d3644bb7fcb7@squarespace.com
DTSTAMP:20170712T224712Z
DTSTART:20170728T030000Z
DTEND:20170730T043000Z
SUMMARY:Commodore Retro eXpo (CRX)
GEO:36.106236;-115.156149
LOCATION:Alexis Park Resort\, 375 East Harmon Avenue\, Las Vegas\, NV\, 891
 69\, United States
END:VEVENT
END:VCALENDAR
