BEGIN:VCALENDAR
VERSION:2.0
PRODID:-//Squarespace Inc/Squarespace 6//v6//EN
BEGIN:VEVENT
UID:596f075ed1758e3c1c517d79@squarespace.com
DTSTAMP:20170719T072444Z
DTSTART:20170728T230000Z
DTEND:20170730T090000Z
SUMMARY:California Extreme
GEO:37.405242;-121.976474
LOCATION:Hyatt Regency Santa Clara\, 5101 Great America Parkway\, Santa Cla
 ra\, CA\, 95054\, United States
END:VEVENT
END:VCALENDAR
