BEGIN:VCALENDAR
VERSION:2.0
PRODID:-//Squarespace Inc/Squarespace 6//v6//EN
BEGIN:VEVENT
UID:5958a1409de4bb457311875a@squarespace.com
DTSTAMP:20170712T224741Z
DTSTART:20170901T030000Z
DTEND:20170903T020000Z
SUMMARY:Datastorm
GEO:57.708801;11.935989
LOCATION:13 Karlavagnsgatan\, Gothenburg\, Västra Götalands län\, 417 56\, 
 Sweden
END:VEVENT
END:VCALENDAR
