BEGIN:VCALENDAR
VERSION:2.0
PRODID:-//Squarespace Inc/Squarespace 6//v6//EN
BEGIN:VEVENT
UID:59588e7429687faf8789df30@squarespace.com
DTSTAMP:20170712T224935Z
DTSTART:20180119T210000Z
DTEND:20180120T050000Z
SUMMARY:Amiga Ireland
GEO:53.423933;-7.94069
LOCATION:Prince of Wales Hotel\, Athlone\, Ireland
END:VEVENT
END:VCALENDAR
