BEGIN:VCALENDAR
VERSION:2.0
PRODID:-//Squarespace Inc/Squarespace 6//v6//EN
BEGIN:VEVENT
UID:5a4ab56124a694278e15a11d@squarespace.com
DTSTAMP:20190308T024004Z
DTSTART:20180518T233000Z
DTEND:20180520T060000Z
SUMMARY:Revival Generation X
GEO:52.56976;-1.992662
LOCATION:Bescott Stadium\, Bescot Crescent\, Walsall\, England\, WS1\, Unit
 ed Kingdom
END:VEVENT
END:VCALENDAR
