BEGIN:VCALENDAR
VERSION:2.0
PRODID:-//Squarespace Inc/Squarespace 6//v6//EN
BEGIN:VEVENT
UID:5b137acef950b72b53597eab@squarespace.com
DTSTAMP:20180603T052330Z
DTSTART:20180608T220000Z
DTEND:20180610T050000Z
SUMMARY:Pacific Commodore Expo NW v2
GEO:47.582462;-122.334669
LOCATION:The Living Computers: Museum + Labs\, 2245 1st Avenue South\, Seat
 tle\, WA\, United States
END:VEVENT
END:VCALENDAR
