BEGIN:VCALENDAR
VERSION:2.0
PRODID:-//Squarespace Inc/Squarespace 6//v6//EN
BEGIN:VEVENT
UID:5ac802018a922dc77379157d@squarespace.com
DTSTAMP:20180406T232843Z
DTSTART:20180608T220000Z
DTEND:20180610T060000Z
SUMMARY:Play Expo Glasgow
GEO:55.877801;-4.372599
LOCATION:Braehead Arena\, King's Inch Rd\, Glasgow\, Scotland\, G51 4BN\, U
 nited Kingdom
END:VEVENT
END:VCALENDAR
