BEGIN:VCALENDAR
VERSION:2.0
PRODID:-//Squarespace Inc/Squarespace 6//v6//EN
BEGIN:VEVENT
UID:5adbc392aa4a99162aca944f@squarespace.com
DTSTAMP:20180421T230710Z
DTSTART:20180914T220000Z
DTEND:20180916T060000Z
SUMMARY:Freeplay UK
GEO:53.468932;-2.331504
LOCATION:BEC Manchester
END:VEVENT
END:VCALENDAR
