BEGIN:VCALENDAR
VERSION:2.0
PRODID:-//Squarespace Inc/Squarespace 6//v6//EN
BEGIN:VEVENT
UID:5ada7bc388251bc864f81011@squarespace.com
DTSTAMP:20190308T023355Z
DTSTART:20180901T220000Z
DTEND:20180902T060000Z
SUMMARY:Manchester Gaming Market
GEO:53.482246;-2.237373
LOCATION:Britannia Sachas Hotel\, 12 Tib Street Piccadilly\, Manchester\, U
 nited Kingdom
END:VEVENT
END:VCALENDAR
